BEGIN:VCALENDAR
VERSION:2.0
PRODID:-//Tukios.com/
BEGIN:VEVENT
UID:fe17e8f3-a173-4101-9619-03dbb3deb2ee@www.bowserfh.com
DTSTAMP:20260423T025119Z
DTSTART:20260429T180000Z
DTEND:20260430T000000Z
SUMMARY:Visitation
DESCRIPTION:
URL:https://www.bowserfh.com/obituaries/denise-paratto
LOCATION: 4606 Old US Hwy 119 South  Homer City PA 15748
GEO:40.5563343;-79.1640783
END:VEVENT
END:VCALENDAR