BEGIN:VCALENDAR
VERSION:2.0
PRODID:-//Tukios.com/
BEGIN:VEVENT
UID:6240ef28-bf15-405c-a447-55192dc5278e@www.bowserfh.com
DTSTAMP:20260423T025949Z
DTSTART:20260424T180000Z
DTEND:20260425T000000Z
SUMMARY:Visitation
DESCRIPTION:
URL:https://www.bowserfh.com/obituaries/julie-arone
LOCATION:Bowser Funeral Home and Cremation Services, Inc. 4606 Old US 
	Highway 119 South  Homer City PA 15748
GEO:40.5564538;-79.16416
END:VEVENT
END:VCALENDAR