BEGIN:VCALENDAR
VERSION:2.0
PRODID:-//Tukios.com/
BEGIN:VEVENT
UID:185435c9-52ae-4ecb-b4d6-1e71c5cfbe34@www.bowserfh.com
DTSTAMP:20260423T025948Z
DTSTART:20260425T133000Z
DTEND:20260425T134500Z
SUMMARY:Blessing Service
DESCRIPTION:
URL:https://www.bowserfh.com/obituaries/julie-arone
LOCATION: 4606 Old US Hwy 119 South  Homer City PA 15748
GEO:40.5563343;-79.1640783
END:VEVENT
END:VCALENDAR