BEGIN:VCALENDAR
VERSION:2.0
PRODID:-//Tukios.com/
BEGIN:VEVENT
UID:3f77cc68-29cf-4977-b058-8069fd51d784@www.bowserfh.com
DTSTAMP:20260423T025617Z
DTSTART:20260425T140000Z
DTEND:20260425T150000Z
SUMMARY:Mass
DESCRIPTION:
URL:https://www.bowserfh.com/obituaries/julie-arone
LOCATION:Our Lady of the Assumption Parish, Coral Site 1st Street  Coral 
	PA 15731
GEO:40.5005473;-79.1729385
END:VEVENT
END:VCALENDAR